BEGIN:VCALENDAR
PRODID:-//92.42.32.155//NONSGML iCalcreator 2.6//
VERSION:2.0
BEGIN:VEVENT
UID:20260424T143348UTC-9821ajxSCk@92.42.32.155
DTSTAMP:20260424T143348Z
CATEGORIES:HOOPSKİNGS COMPANY BASKETBALL CHAMPIONSHIPEvents
DESCRIPTION:
DTSTART:20260428T200000
LOCATION:
SUMMARY:SUNEXPRESS – AYBOY
END:VEVENT
END:VCALENDAR
